Workbook

Sheet Schießplan
A2: 2026 SCHIEßPLAN SCHÜTZENVEREIN SCHÖNAU e.V. 1896
A4: Schießtermine jeweils Freitag ab
C6: 46031 | D6: 0.77083333 | E6: Übungsschießen
C7: =+C6+14 -> 46045 | D7: 0.77083333 | E7: Übungsschießen
C8: =+C7+14 -> 46059 | D8: 0.77083333 | E8: Übungsschießen
C9: =+C8+14 -> 46073 | D9: 0.77083333 | E9: Übungsschießen
C10: =+C9+14 -> 46087 | D10: 0.77083333 | E10: Übungsschießen
C11: =+C10+14 -> 46101 | D11: 0.77083333 | E11: Übungsschießen
C12: =+C11+14 -> 46115 | D12: 0.8125 | E12: Osterschießen (Karfreitag)
C13: 45752 | D13: 0.8125 | E13: Übungsschießen
C14: =+C12+14 -> 46129 | D14: 0.8125 | E14: Königsschießen
C15: 46130 | D15: 0.8125 | G15: Generalversammlung
C16: =+C14+14 -> 46143 | D16: 0.8125 | E16: Übungsschießen
C17: =+C16+14 -> 46157 | D17: 0.8125 | E17: Übungsschießen
C18: =+C17+14 -> 46171 | D18: 0.8125 | E18: Übungsschießen
C19: =+C18+14 -> 46185 | D19: 0.8125 | E19: Übungsschießen
C20: =+C19+14 -> 46199 | D20: 0.8125 | E20: Übungsschießen
C21: =+C20+14 -> 46213 | D21: 0.8125 | E21: Richard Brög-Pokal
C22: =+C21+14 -> 46227 | D22: 0.8125 | E22: Übungsschießen
C23: =+C22+14 -> 46241 | D23: 0.8125 | E23: Übungsschießen
C24: =+C23+14 -> 46255 | D24: 0.8125 | E24: Übungsschießen
C25: =+C24+14 -> 46269 | E25: Übungsschießen (4.-6.9. Oktoberfest Lindau)
C26: =+C25+14 -> 46283 | D26: 0.8125 | E26: Stiefenhofer-Pokal
C27: =+C26+14 -> 46297 | D27: 0.8125 | E27: Übungsschießen
C28: =+C27+14 -> 46311 | D28: 0.8125 | E28: Übungsschießen
C29: =+C28+14 -> 46325 | D29: 0.77083333 | E29: Übungsschießen
C30: =+C29+14 -> 46339 | D30: 0.77083333 | E30: Herbstfest
C31: =+C30+14 -> 46353 | D31: 0.77083333 | E31: Nikolausschießen
C32: =+C31+14 -> 46367 | D32: 0.77083333 | E32: Überraschungsschießen

Sheet Dienstplan
A2: 2026 DIENSTPLAN SCHÜTZENVEREIN SCHÖNAU e.V. 1896
A4: Schießtermine jeweils Freitag ab
C5: 46031 | D5: 0.77083333 | E5: Übungsschießen | G5: Bock R./Reimann | I5: Brög | L5: Roither/Missal
C6: =+C5+14 -> 46045 | D6: 0.77083333 | E6: Übungsschießen | G6: Lohr/Motz | L6: Brög
C7: =+C6+14 -> 46059 | D7: 0.77083333 | E7: Übungsschießen | G7: Bock/Eibl | I7: Hiemer/Roither | L7: Jurk
C8: =+C7+14 -> 46073 | D8: 0.77083333 | E8: Übungsschießen | G8: Bock R./Reimann | I8: Brög | L8: Roither/Missal
C9: =+C8+14 -> 46087 | D9: 0.77083333 | E9: Übungsschießen | G9: Lohr/Motz | L9: Brög
C10: =+C9+14 -> 46101 | D10: 0.77083333 | E10: Übungsschießen | G10: Bock/Eibl | I10: Hiemer/Roither | L10: Jurk
C11: =+C10+14 -> 46115 | D11: 0.8125 | E11: Osterschießen | G11: Bock R./Reimann | I11: Brög | L11: Roither/Missal
C12: =+C11+14 -> 46129 | D12: 0.8125 | E12: Königsschießen | G12: Lohr/Motz | L12: Brög
C13: 46130 | D13: 0.8125 | E13: Generalversammlung
C14: =+C12+14 -> 46143 | D14: 0.8125 | E14: Kein Schießen | G14: Bock/Eibl | I14: Hiemer/Roither | L14: Jurk
C15: =+C14+14 -> 46157 | D15: 0.8125 | E15: Übungsschießen | G15: Bock R./Reimann | I15: Brög | L15: Roither/Missal
C16: =+C15+14 -> 46171 | D16: 0.8125 | E16: Übungsschießen | G16: Lohr/Motz | L16: Brög
C17: =+C16+14 -> 46185 | D17: 0.8125 | E17: Übungsschießen | G17: Bock/Eibl | I17: Hiemer/Roither | L17: Jurk
C18: =+C17+14 -> 46199 | D18: 0.8125 | E18: Übungsschießen | G18: Bock R./Reimann | I18: Brög | L18: Roither/Missal
C19: =+C18+14 -> 46213 | D19: 0.8125 | E19: Richard Brög-Pokal | G19: Lohr/Motz | L19: Brög
C20: =+C19+14 -> 46227 | D20: 0.8125 | E20: Übungsschießen | G20: Bock/Eibl | I20: Hiemer/Roither | L20: Jurk
C21: =+C20+14 -> 46241 | D21: 0.8125 | E21: Übungsschießen | G21: Bock R./Reimann | I21: Brög | L21: Roither/Missal
C22: =+C21+14 -> 46255 | D22: 0.8125 | E22: Übungsschießen | G22: Lohr/Motz | L22: Brög
C23: =+C22+14 -> 46269 | E23: (4.-6.9. Oktoberfest Lindau) | I23: Hiemer/Roither
C24: =+C23+14 -> 46283 | D24: 0.8125 | E24: Stiefenhofer-Pokal | G24: Bock/Eibl | I24: Hiemer/Roither | L24: Jurk
C25: =+C24+14 -> 46297 | D25: 0.8125 | E25: Übungsschießen | G25: Bock R./Reimann | I25: Brög | L25: Roither/Missal
C26: =+C25+14 -> 46311 | D26: 0.8125 | E26: Übungsschießen | G26: Lohr/Motz | I26: Brög | L26: Brög
C27: =+C26+14 -> 46325 | D27: 0.77083333 | E27: Übungsschießen | G27: Bock/Eibl | L27: Jurk
C28: =+C27+14 -> 46339 | D28: 0.77083333 | E28: Herbstfest | G28: Bock R./Reimann | I28: Hiemer/Roither | L28: Roither/Missal
C29: =+C28+14 -> 46353 | D29: 0.77083333 | E29: Nikolausschießen
C30: =+C29+14 -> 46367 | D30: 0.77083333 | E30: Überraschungsschießen | G30: Lohr/Motz | L30: Brög
I31: Brög

Sheet Standaufsicht
A1: 20256 Standaufsicht SV SCHÖNAU e.V. 1896
A3: Schießtermine jeweils Freitag ab 18:30 Uhr ab den 03.04.2026 Sommerzeit 19:30
E4: Bemerkung
A5: =+Dienstplan!C5 -> 46031 | C5: =+Dienstplan!E5 -> Übungsschießen | D5: =+IF(Dienstplan!G5="","",Dienstplan!G5) -> Bock R./Reimann
A6: =+Dienstplan!C6 -> 46045 | C6: =+Dienstplan!E6 -> Übungsschießen | D6: =+IF(Dienstplan!G6="","",Dienstplan!G6) -> Lohr/Motz
A7: =+Dienstplan!C7 -> 46059 | C7: =+Dienstplan!E7 -> Übungsschießen | D7: =+IF(Dienstplan!G7="","",Dienstplan!G7) -> Bock/Eibl
A8: =+Dienstplan!C8 -> 46073 | C8: =+Dienstplan!E8 -> Übungsschießen | D8: =+IF(Dienstplan!G8="","",Dienstplan!G8) -> Bock R./Reimann
A9: =+Dienstplan!C9 -> 46087 | C9: =+Dienstplan!E10 -> Übungsschießen | D9: =+IF(Dienstplan!G9="","",Dienstplan!G9) -> Lohr/Motz
A10: =+Dienstplan!C10 -> 46101 | C10: =+Dienstplan!E11 -> Osterschießen | D10: =+IF(Dienstplan!G10="","",Dienstplan!G10) -> Bock/Eibl
A11: =+Dienstplan!C11 -> 46115 | C11: Königsschießen | D11: =+IF(Dienstplan!G11="","",Dienstplan!G11) -> Bock R./Reimann
A12: 45752 | C12: Generalversammlung
A13: =+Dienstplan!C12 -> 46129 | C13: =+Dienstplan!E12 -> Königsschießen | D13: =+IF(Dienstplan!G12="","",Dienstplan!G12) -> Lohr/Motz
A14: =+Dienstplan!C14 -> 46143 | C14: =+Dienstplan!E14 -> Kein Schießen | D14: =+IF(Dienstplan!G14="","",Dienstplan!G14) -> Bock/Eibl
A15: =+Dienstplan!C15 -> 46157 | C15: =+Dienstplan!E15 -> Übungsschießen | D15: =+IF(Dienstplan!G15="","",Dienstplan!G15) -> Bock R./Reimann
A16: =+Dienstplan!C16 -> 46171 | C16: =+Dienstplan!E16 -> Übungsschießen | D16: =+IF(Dienstplan!G16="","",Dienstplan!G16) -> Lohr/Motz
A17: =+Dienstplan!C17 -> 46185 | C17: =+Dienstplan!E17 -> Übungsschießen | D17: =+IF(Dienstplan!G17="","",Dienstplan!G17) -> Bock/Eibl
A18: =+Dienstplan!C18 -> 46199 | C18: =+Dienstplan!E18 -> Übungsschießen | D18: =+IF(Dienstplan!G18="","",Dienstplan!G18) -> Bock R./Reimann
A19: =+Dienstplan!C19 -> 46213 | C19: =+Dienstplan!E19 -> Richard Brög-Pokal | D19: =+IF(Dienstplan!G19="","",Dienstplan!G19) -> Lohr/Motz
A20: =+Dienstplan!C20 -> 46227 | C20: =+Dienstplan!E20 -> Übungsschießen | D20: =+IF(Dienstplan!G20="","",Dienstplan!G20) -> Bock/Eibl
A21: =+Dienstplan!C21 -> 46241 | C21: =+Dienstplan!E21 -> Übungsschießen | D21: =+IF(Dienstplan!G21="","",Dienstplan!G21) -> Bock R./Reimann
A22: =+Dienstplan!C22 -> 46255 | C22: =+Dienstplan!E22 -> Übungsschießen | D22: =+IF(Dienstplan!G22="","",Dienstplan!G22) -> Lohr/Motz
A23: =+Dienstplan!C23 -> 46269 | C23: =+Dienstplan!E23 -> (4.-6.9. Oktoberfest Lindau) | D23: =+IF(Dienstplan!G23="","",Dienstplan!G23)
A24: =+Dienstplan!C24 -> 46283 | C24: =+Dienstplan!E24 -> Stiefenhofer-Pokal | D24: =+IF(Dienstplan!G24="","",Dienstplan!G24) -> Bock/Eibl
A25: =+Dienstplan!C25 -> 46297 | C25: =+Dienstplan!E25 -> Übungsschießen | D25: =+IF(Dienstplan!G25="","",Dienstplan!G25) -> Bock R./Reimann
A26: =+Dienstplan!C26 -> 46311 | C26: =+Dienstplan!E26 -> Übungsschießen | D26: =+IF(Dienstplan!#REF!="","",Dienstplan!#REF!) -> #REF!
A27: =+Dienstplan!C27 -> 46325 | C27: =+Dienstplan!E27 -> Übungsschießen | D27: =+IF(Dienstplan!G26="","",Dienstplan!G26) -> Lohr/Motz
A28: =+Dienstplan!C28 -> 46339 | C28: =+Dienstplan!E28 -> Herbstfest | D28: =+IF(Dienstplan!G28="","",Dienstplan!G28) -> Bock R./Reimann
A29: =+Dienstplan!C29 -> 46353 | C29: =+Dienstplan!E29 -> Nikolausschießen | D29: =+IF(Dienstplan!G29="","",Dienstplan!G29)
A30: =+Dienstplan!C30 -> 46367 | C30: =+Dienstplan!E30 -> Überraschungsschießen | D30: =+IF(Dienstplan!G30="","",Dienstplan!G30) -> Lohr/Motz

Sheet Tabelle1
